BEGIN:VCALENDAR
VERSION:2.0
PRODID:-//wp-events-plugin.com//7.2.3.1//EN
TZID:Australia/Darwin
X-WR-TIMEZONE:Australia/Darwin
BEGIN:VEVENT
UID:198@topendhash.com
DTSTART;TZID=Australia/Darwin:20211111T180000
DTEND;TZID=Australia/Darwin:20211111T233000
DTSTAMP:20211109T110504Z
URL:https://topendhash.com/events/1068/
SUMMARY:1068 - DREGS - BERRIMAH RADAR STATION\, PAW ACCESS\, WISHARTCLICK O
 N THIS LINK FOR MISDIRECTIONS
DESCRIPTION:BERRIMAH RADAR STATION\, PAW ACCESS\, WISHART\n\n\n\n\n
END:VEVENT
BEGIN:VTIMEZONE
TZID:Australia/Darwin
X-LIC-LOCATION:Australia/Darwin
BEGIN:STANDARD
DTSTART:20201111T180000
TZOFFSETFROM:+0930
TZOFFSETTO:+0930
TZNAME:ACST
END:STANDARD
END:VTIMEZONE
END:VCALENDAR