BEGIN:VCALENDAR
VERSION:2.0
PRODID:-//wp-events-plugin.com//7.2.3.1//EN
TZID:Australia/Darwin
X-WR-TIMEZONE:Australia/Darwin
BEGIN:VEVENT
UID:195@topendhash.com
DTSTART;TZID=Australia/Darwin:20211028T180000
DTEND;TZID=Australia/Darwin:20211028T233000
DTSTAMP:20210831T103709Z
URL:https://topendhash.com/events/1066/
SUMMARY:1066 - THIS IS A NO DOG RUN - HAPPY HOOKER & KARMA SUTRA & HAPPY CU
 STOMER - 319 THOMAS ROAD\,  HUMPTY DOO CLICK ON LINK FOR MISDIRECTIONS
DESCRIPTION:THIS IS A NO DOG RUN\n\nLEAVE THEM AT HOME\n\n\n\n
END:VEVENT
BEGIN:VTIMEZONE
TZID:Australia/Darwin
X-LIC-LOCATION:Australia/Darwin
BEGIN:STANDARD
DTSTART:20201028T180000
TZOFFSETFROM:+0930
TZOFFSETTO:+0930
TZNAME:ACST
END:STANDARD
END:VTIMEZONE
END:VCALENDAR