BEGIN:VCALENDAR
VERSION:2.0
PRODID:-//wp-events-plugin.com//7.2.3.1//EN
TZID:Australia/Darwin
X-WR-TIMEZONE:Australia/Darwin
BEGIN:VEVENT
UID:193@topendhash.com
DTSTART;TZID=Australia/Darwin:20211014T180000
DTEND;TZID=Australia/Darwin:20211014T233000
DTSTAMP:20211011T000737Z
URL:https://topendhash.com/events/1064/
SUMMARY:1064 - JUMPING JACK & SLIP UP - EAST POINT RESERVE (COVERED AREA AT
  THE END OF EAST POINT PAST THE GUN TURRET) - CLICK ON LINK FOR MISDIRECTI
 ONS
DESCRIPTION:Covered area at the end of East Point (past the gun turret)\n\n
 \n\n
END:VEVENT
BEGIN:VTIMEZONE
TZID:Australia/Darwin
X-LIC-LOCATION:Australia/Darwin
BEGIN:STANDARD
DTSTART:20201014T180000
TZOFFSETFROM:+0930
TZOFFSETTO:+0930
TZNAME:ACST
END:STANDARD
END:VTIMEZONE
END:VCALENDAR