BEGIN:VCALENDAR
VERSION:2.0
PRODID:-//wp-events-plugin.com//7.2.3.1//EN
TZID:Australia/Darwin
X-WR-TIMEZONE:Australia/Darwin
BEGIN:VEVENT
UID:191@topendhash.com
DTSTART;TZID=Australia/Darwin:20211007T180000
DTEND;TZID=Australia/Darwin:20211007T233000
DTSTAMP:20230127T015641Z
URL:https://topendhash.com/events/1063/
SUMMARY:1063 - STONED AND WHATS HIS NAME - COOLALINGA BUS EXCHANGE\, GIRRAW
 EEN ROAD\, COOLALINGA - CLICK ON LINK FOR MISDIRECTIONS
DESCRIPTION:Coolalinga Bus Interchange\, Girraween Rd\, Coolalinga\n\n\n\n\
 n
END:VEVENT
BEGIN:VTIMEZONE
TZID:Australia/Darwin
X-LIC-LOCATION:Australia/Darwin
BEGIN:STANDARD
DTSTART:20201007T180000
TZOFFSETFROM:+0930
TZOFFSETTO:+0930
TZNAME:ACST
END:STANDARD
END:VTIMEZONE
END:VCALENDAR