BEGIN:VCALENDAR
VERSION:2.0
PRODID:-//wp-events-plugin.com//7.2.3.1//EN
TZID:Australia/Darwin
X-WR-TIMEZONE:Australia/Darwin
BEGIN:VEVENT
UID:189@topendhash.com
DTSTART;TZID=Australia/Darwin:20210930T180000
DTEND;TZID=Australia/Darwin:20210930T233000
DTSTAMP:20210926T040336Z
URL:https://topendhash.com/events/1062/
SUMMARY:1062 - INSPECT HER GADGET & WHO GIVES A DUCK - 30 ROSELLA CRES\, WU
 LAGI - CLICK ON LINK FOR MISDIRECTIONS
DESCRIPTION:30 ROSELLA CRES\, WULAGI\n\n
END:VEVENT
BEGIN:VTIMEZONE
TZID:Australia/Darwin
X-LIC-LOCATION:Australia/Darwin
BEGIN:STANDARD
DTSTART:20200930T180000
TZOFFSETFROM:+0930
TZOFFSETTO:+0930
TZNAME:ACST
END:STANDARD
END:VTIMEZONE
END:VCALENDAR