BEGIN:VCALENDAR
VERSION:2.0
PRODID:-//wp-events-plugin.com//7.2.3.1//EN
TZID:Australia/Darwin
X-WR-TIMEZONE:Australia/Darwin
BEGIN:VEVENT
UID:187@topendhash.com
DTSTART;TZID=Australia/Darwin:20210923T180000
DTEND;TZID=Australia/Darwin:20210923T233000
DTSTAMP:20210831T092016Z
URL:https://topendhash.com/events/1061/
SUMMARY:1061 - LADY DI\, ANNONAMOUSE AND DINGBAT - HOBART PARK\, HOBART CRE
 SCENT\, JOHNSTON - CLICK ON LINK FOR MISDIRECTIONS
DESCRIPTION:HOBART PARK\, HOBART CRESCENT\, JOHNSTON\n\n\n
END:VEVENT
BEGIN:VTIMEZONE
TZID:Australia/Darwin
X-LIC-LOCATION:Australia/Darwin
BEGIN:STANDARD
DTSTART:20200923T180000
TZOFFSETFROM:+0930
TZOFFSETTO:+0930
TZNAME:ACST
END:STANDARD
END:VTIMEZONE
END:VCALENDAR