BEGIN:VCALENDAR
VERSION:2.0
PRODID:-//wp-events-plugin.com//7.2.3.1//EN
TZID:Australia/Darwin
X-WR-TIMEZONE:Australia/Darwin
BEGIN:VEVENT
UID:186@topendhash.com
DTSTART;TZID=Australia/Darwin:20210909T180000
DTEND;TZID=Australia/Darwin:20210909T233000
DTSTAMP:20210905T072124Z
URL:https://topendhash.com/events/1059/
SUMMARY:1059 - ROCKY - INTERSECTION OF EAST POINT ROAD AND COLIVAS ROAD\, E
 AST POINT - CLICK ON LINK FOR MISDIRECTIONS
DESCRIPTION:INTERSECTION OF EAST POINT ROAD AND COLIVAS ROAD\, EAST POINT\n
 \n
END:VEVENT
BEGIN:VTIMEZONE
TZID:Australia/Darwin
X-LIC-LOCATION:Australia/Darwin
BEGIN:STANDARD
DTSTART:20200909T180000
TZOFFSETFROM:+0930
TZOFFSETTO:+0930
TZNAME:ACST
END:STANDARD
END:VTIMEZONE
END:VCALENDAR