BEGIN:VCALENDAR
VERSION:2.0
PRODID:-//wp-events-plugin.com//7.2.3.1//EN
TZID:Australia/Darwin
X-WR-TIMEZONE:Australia/Darwin
BEGIN:VEVENT
UID:185@topendhash.com
DTSTART;TZID=Australia/Darwin:20210902T180000
DTEND;TZID=Australia/Darwin:20210902T233000
DTSTAMP:20210831T091750Z
URL:https://topendhash.com/events/1058/
SUMMARY:1058 - KARMA AND HAPPY HOOKER - LLOYD CREEK\, ON GOODE ROAD\, HUMPT
 Y DOO - CLICK ON LINK FOR MISDIRECTIONS
DESCRIPTION:Lloyd Creek on Goode Rd at Humpty Doo\n\n\n\n
END:VEVENT
BEGIN:VTIMEZONE
TZID:Australia/Darwin
X-LIC-LOCATION:Australia/Darwin
BEGIN:STANDARD
DTSTART:20200902T180000
TZOFFSETFROM:+0930
TZOFFSETTO:+0930
TZNAME:ACST
END:STANDARD
END:VTIMEZONE
END:VCALENDAR