BEGIN:VCALENDAR
VERSION:2.0
PRODID:-//wp-events-plugin.com//7.2.3.1//EN
TZID:Australia/Darwin
X-WR-TIMEZONE:Australia/Darwin
BEGIN:VEVENT
UID:184@topendhash.com
DTSTART;TZID=Australia/Darwin:20210826T180000
DTEND;TZID=Australia/Darwin:20210826T233000
DTSTAMP:20210817T231345Z
URL:https://topendhash.com/events/1057/
SUMMARY:1057 - SHIT HAPPENS AND BOT BOT - THIS IS A NO DOG RUN - 20 CROWN C
 OURT\, DURACK - CLICK ON THIS LINK FOR MISDIRECTIONS
DESCRIPTION:THIS IS A NO DOG RUN - I DO NOT HAVE ENOUGH ROOM IN MY YARD FOR
  ALL OF THE DOGS\n\n20 Crown Court\, Durack\n\n\n\n\n
END:VEVENT
BEGIN:VTIMEZONE
TZID:Australia/Darwin
X-LIC-LOCATION:Australia/Darwin
BEGIN:STANDARD
DTSTART:20200826T180000
TZOFFSETFROM:+0930
TZOFFSETTO:+0930
TZNAME:ACST
END:STANDARD
END:VTIMEZONE
END:VCALENDAR