BEGIN:VCALENDAR
VERSION:2.0
PRODID:-//wp-events-plugin.com//7.2.3.1//EN
TZID:Australia/Darwin
X-WR-TIMEZONE:Australia/Darwin
BEGIN:VEVENT
UID:183@topendhash.com
DTSTART;TZID=Australia/Darwin:20210821T160000
DTEND;TZID=Australia/Darwin:20210821T233000
DTSTAMP:20210709T050330Z
URL:https://topendhash.com/events/1056/
SUMMARY:1056 -SATURDAY 21 AUGUST - SOIREE HASH - BANYAN TREE RESORT\, LITCH
 FIELD PARK - CLICK ON LINK FOR MORE INFO
DESCRIPTION:Click on the link below to take you to the Soiree Hash Webpage\
 n\nhttps://topendhash.com/soiree-hash/
END:VEVENT
BEGIN:VTIMEZONE
TZID:Australia/Darwin
X-LIC-LOCATION:Australia/Darwin
BEGIN:STANDARD
DTSTART:20200821T160000
TZOFFSETFROM:+0930
TZOFFSETTO:+0930
TZNAME:ACST
END:STANDARD
END:VTIMEZONE
END:VCALENDAR