BEGIN:VCALENDAR
VERSION:2.0
PRODID:-//wp-events-plugin.com//7.2.3.1//EN
TZID:Australia/Darwin
X-WR-TIMEZONE:Australia/Darwin
BEGIN:VEVENT
UID:178@topendhash.com
DTSTART;TZID=Australia/Darwin:20210715T180000
DTEND;TZID=Australia/Darwin:20210715T233000
DTSTAMP:20210719T062430Z
URL:https://topendhash.com/events/1049/
SUMMARY:1049 - MOUTHFUL AND 457- AT THE ROUNDABOUT ON THE CORNER OF ANGLESE
 Y AND GIRRAWEEN ROADS\, GIRRAWEEN (JUST PAST THE GIRRAWEEN SCHOOL)  CLICK 
 ON LINK FOR MISDIRECTIONS
DESCRIPTION:AT THE ROUNDABOUT ON THE CORNER FO ANGLESEY AND GIRRAWEEN ROADS
 \, GIRRAWEEN (JUST PAST THE GIRRAWEEN SCHOOL)\n\n\n\n
END:VEVENT
BEGIN:VTIMEZONE
TZID:Australia/Darwin
X-LIC-LOCATION:Australia/Darwin
BEGIN:STANDARD
DTSTART:20200715T180000
TZOFFSETFROM:+0930
TZOFFSETTO:+0930
TZNAME:ACST
END:STANDARD
END:VTIMEZONE
END:VCALENDAR