BEGIN:VCALENDAR
VERSION:2.0
PRODID:-//wp-events-plugin.com//7.2.3.1//EN
TZID:Australia/Darwin
X-WR-TIMEZONE:Australia/Darwin
BEGIN:VEVENT
UID:176@topendhash.com
DTSTART;TZID=Australia/Darwin:20210708T180000
DTEND;TZID=Australia/Darwin:20210708T233000
DTSTAMP:20210629T064715Z
URL:https://topendhash.com/events/1048/
SUMMARY:1048 - SKIDDY AND MR BALLDANGLES - DIRT CARPARK BETWEEN THE VELODRO
 ME AND SOCCER FIELDS - MILLNERCLICK ON LINK FOR MISDIRECTIONS
DESCRIPTION:Dirt carpark area between the Velodrome and Soccer fields at Mi
 llner. Access is via Old McMillians Rd off Bagot Rd\n\n\n\n\n\n\n
END:VEVENT
BEGIN:VTIMEZONE
TZID:Australia/Darwin
X-LIC-LOCATION:Australia/Darwin
BEGIN:STANDARD
DTSTART:20200708T180000
TZOFFSETFROM:+0930
TZOFFSETTO:+0930
TZNAME:ACST
END:STANDARD
END:VTIMEZONE
END:VCALENDAR