BEGIN:VCALENDAR
VERSION:2.0
PRODID:-//wp-events-plugin.com//7.2.3.1//EN
TZID:Australia/Darwin
X-WR-TIMEZONE:Australia/Darwin
BEGIN:VEVENT
UID:175@topendhash.com
DTSTART;TZID=Australia/Darwin:20210701T180000
DTEND;TZID=Australia/Darwin:20210701T233000
DTSTAMP:20210629T065439Z
URL:https://topendhash.com/events/1047/
SUMMARY:1047 - SORRY THIS RUN IS SHIT CANNED DUE TO COVID-19-  CLICK ON LIN
 K FOR NT GOV LOCK DOWN AND EXPOSURE SITES
DESCRIPTION:No run this week due to NT Lockdown Covid-19\n\n\nFor more info
 rmation on lockdown and exposure sites got to\n\n\nhttps://coronavirus.nt.
 gov.au/\n\n\n\n
END:VEVENT
BEGIN:VTIMEZONE
TZID:Australia/Darwin
X-LIC-LOCATION:Australia/Darwin
BEGIN:STANDARD
DTSTART:20200701T180000
TZOFFSETFROM:+0930
TZOFFSETTO:+0930
TZNAME:ACST
END:STANDARD
END:VTIMEZONE
END:VCALENDAR