BEGIN:VCALENDAR
VERSION:2.0
PRODID:-//wp-events-plugin.com//7.2.3.1//EN
TZID:Australia/Darwin
X-WR-TIMEZONE:Australia/Darwin
BEGIN:VEVENT
UID:174@topendhash.com
DTSTART;TZID=Australia/Darwin:20210624T180000
DTEND;TZID=Australia/Darwin:20210624T233000
DTSTAMP:20220220T111708Z
URL:https://topendhash.com/events/1046/
SUMMARY:1046 - BLUE BALLS AND CUMALOT - 5 SITTELLA ROAD\, HOWARD SPRINGS - 
 CLICK ON LINK FOR MISDIRECTIONS
DESCRIPTION:5 SITTELLA ROAD\, HOWARD SPRINGS\n\n\n
END:VEVENT
BEGIN:VTIMEZONE
TZID:Australia/Darwin
X-LIC-LOCATION:Australia/Darwin
BEGIN:STANDARD
DTSTART:20200624T180000
TZOFFSETFROM:+0930
TZOFFSETTO:+0930
TZNAME:ACST
END:STANDARD
END:VTIMEZONE
END:VCALENDAR