BEGIN:VCALENDAR
VERSION:2.0
PRODID:-//wp-events-plugin.com//7.2.3.1//EN
TZID:Australia/Darwin
X-WR-TIMEZONE:Australia/Darwin
BEGIN:VEVENT
UID:171@topendhash.com
DTSTART;TZID=Australia/Darwin:20210617T180000
DTEND;TZID=Australia/Darwin:20210617T233000
DTSTAMP:20210520T074252Z
URL:https://topendhash.com/events/1045/
SUMMARY:1045 - THIS IS A NO DOG RUN  PLEASE LEAVE YOUR DOGS AT HOME - KARMA
  AND HAPPY HOOKER - 319 THOMAS STREET\, HUMPTY DOO - CLICK ON LINK FOR MIS
 DIRECTIONS
DESCRIPTION:THIS IS A NO DOG RUN\n\nPLEASE LEAVE YOUR DOGS AT HOME\n\n319 T
 homas Street Humpty Doo\n\n\n\n\nPLEASE LEAVE YOUR DOGS AT HOME\n
END:VEVENT
BEGIN:VTIMEZONE
TZID:Australia/Darwin
X-LIC-LOCATION:Australia/Darwin
BEGIN:STANDARD
DTSTART:20200617T180000
TZOFFSETFROM:+0930
TZOFFSETTO:+0930
TZNAME:ACST
END:STANDARD
END:VTIMEZONE
END:VCALENDAR