BEGIN:VCALENDAR
VERSION:2.0
PRODID:-//wp-events-plugin.com//7.2.3.1//EN
TZID:Australia/Darwin
X-WR-TIMEZONE:Australia/Darwin
BEGIN:VEVENT
UID:173@topendhash.com
DTSTART;TZID=Australia/Darwin:20210603T180000
DTEND;TZID=Australia/Darwin:20210603T233000
DTSTAMP:20210601T003634Z
URL:https://topendhash.com/events/1043-2/
SUMMARY:1043 - ROCKY - 30 GRIFFE STREET\, NAKARA - CLICK ON LINK FOR MISDIR
 ECTIONS
DESCRIPTION:30 Griffe Street\nNakara\n\nClick on the top left hand side of 
 the map to enlarge\n\n
END:VEVENT
BEGIN:VTIMEZONE
TZID:Australia/Darwin
X-LIC-LOCATION:Australia/Darwin
BEGIN:STANDARD
DTSTART:20200603T180000
TZOFFSETFROM:+0930
TZOFFSETTO:+0930
TZNAME:ACST
END:STANDARD
END:VTIMEZONE
END:VCALENDAR