BEGIN:VCALENDAR
VERSION:2.0
PRODID:-//wp-events-plugin.com//7.2.3.1//EN
TZID:Australia/Darwin
X-WR-TIMEZONE:Australia/Darwin
BEGIN:VEVENT
UID:170@topendhash.com
DTSTART;TZID=Australia/Darwin:20210527T180000
DTEND;TZID=Australia/Darwin:20210527T233000
DTSTAMP:20210508T072737Z
URL:https://topendhash.com/events/1042/
SUMMARY:1042 - LOOSE LIPS AND LOUIS - JINGILI WATER GARDENS CLICK ON THIS L
 INK FOR MISDIRECTIONS
DESCRIPTION:Jingili Water Gardens\n\nClick on the top left hand side of the
  map to enlarge\n\n
END:VEVENT
BEGIN:VTIMEZONE
TZID:Australia/Darwin
X-LIC-LOCATION:Australia/Darwin
BEGIN:STANDARD
DTSTART:20200527T180000
TZOFFSETFROM:+0930
TZOFFSETTO:+0930
TZNAME:ACST
END:STANDARD
END:VTIMEZONE
END:VCALENDAR