BEGIN:VCALENDAR
VERSION:2.0
PRODID:-//wp-events-plugin.com//7.2.3.1//EN
TZID:Australia/Darwin
X-WR-TIMEZONE:Australia/Darwin
BEGIN:VEVENT
UID:161@topendhash.com
DTSTART;TZID=Australia/Darwin:20210502T180000
DTEND;TZID=Australia/Darwin:20210502T233000
DTSTAMP:20210125T075152Z
URL:https://topendhash.com/events/1038-recovery-run-coomalie-creek-christi
 an-camp-coomalie-click-on-this-link-for-misdirections/
SUMMARY:1038 - RECOVERY RUN - Coomalie Creek Christian Camp\, Coomalie - CL
 ICK ON THIS LINK FOR MISDIRECTIONS
DESCRIPTION:Coomalie Creek Christian Camp\, Coomalie\n\n\n\n
END:VEVENT
BEGIN:VTIMEZONE
TZID:Australia/Darwin
X-LIC-LOCATION:Australia/Darwin
BEGIN:STANDARD
DTSTART:20200502T180000
TZOFFSETFROM:+0930
TZOFFSETTO:+0930
TZNAME:ACST
END:STANDARD
END:VTIMEZONE
END:VCALENDAR