BEGIN:VCALENDAR
VERSION:2.0
PRODID:-//wp-events-plugin.com//7.2.3.1//EN
TZID:Australia/Darwin
X-WR-TIMEZONE:Australia/Darwin
BEGIN:VEVENT
UID:159@topendhash.com
DTSTART;TZID=Australia/Darwin:20210429T180000
DTEND;TZID=Australia/Darwin:20210429T233000
DTSTAMP:20210427T102341Z
URL:https://topendhash.com/events/1036/
SUMMARY:1036 - ROUGH RED AND  BACK PAGE - CULLEN BEACH (OPPOSITE THE OVERFL
 OW CARPARK - CLICK ON THIS LINK FOR MISDIRECTIONS
DESCRIPTION:CULLEN BEACH \n\n
END:VEVENT
BEGIN:VTIMEZONE
TZID:Australia/Darwin
X-LIC-LOCATION:Australia/Darwin
BEGIN:STANDARD
DTSTART:20200429T180000
TZOFFSETFROM:+0930
TZOFFSETTO:+0930
TZNAME:ACST
END:STANDARD
END:VTIMEZONE
END:VCALENDAR