BEGIN:VCALENDAR
VERSION:2.0
PRODID:-//wp-events-plugin.com//7.2.3.1//EN
TZID:Australia/Darwin
X-WR-TIMEZONE:Australia/Darwin
BEGIN:VEVENT
UID:158@topendhash.com
DTSTART;TZID=Australia/Darwin:20210422T180000
DTEND;TZID=Australia/Darwin:20210422T233000
DTSTAMP:20210420T092530Z
URL:https://topendhash.com/events/1035/
SUMMARY:1035 - ANAC DAY RUN - PLAY SCHOOL AND DUREX - CENOTAPH WAR MEMORIAL
 \, THE ESPLANADE DARWIN CITY -CLICK ON THIS LINK FOR MISDIRECTIONS
DESCRIPTION:CENOTAPH WAR MEMORIAL\, THE ESPLANADE DARWIN CITY\n\n\n
END:VEVENT
BEGIN:VTIMEZONE
TZID:Australia/Darwin
X-LIC-LOCATION:Australia/Darwin
BEGIN:STANDARD
DTSTART:20200422T180000
TZOFFSETFROM:+0930
TZOFFSETTO:+0930
TZNAME:ACST
END:STANDARD
END:VTIMEZONE
END:VCALENDAR