BEGIN:VCALENDAR
VERSION:2.0
PRODID:-//wp-events-plugin.com//7.2.3.1//EN
TZID:Australia/Darwin
X-WR-TIMEZONE:Australia/Darwin
BEGIN:VEVENT
UID:165@topendhash.com
DTSTART;TZID=Australia/Darwin:20210408T180000
DTEND;TZID=Australia/Darwin:20210408T233000
DTSTAMP:20210406T114745Z
URL:https://topendhash.com/events/1033-bring-a-plate-run-east-point-rotund
 a-inthe-driveway-just-past-pee-wees-click-on-this-link-for-misdirections/
SUMMARY:1033 - SKIDDY AND MR BALL DANGLES - 31 TAMBLING TERRACE\, WANGURI (
 PLEASE NOTE: This is NOT a bring a plate run) - CLICK ON THIS LINK FOR MIS
 DIRECTIONS
DESCRIPTION:31 TAMBLING TERRACE\,\nWANGURI\n\nPlease Note:\n\nThis is NOT a
  bring a plate run as previously advertised\n\n
END:VEVENT
BEGIN:VTIMEZONE
TZID:Australia/Darwin
X-LIC-LOCATION:Australia/Darwin
BEGIN:STANDARD
DTSTART:20200408T180000
TZOFFSETFROM:+0930
TZOFFSETTO:+0930
TZNAME:ACST
END:STANDARD
END:VTIMEZONE
END:VCALENDAR