BEGIN:VCALENDAR
VERSION:2.0
PRODID:-//wp-events-plugin.com//7.2.3.1//EN
TZID:Australia/Darwin
X-WR-TIMEZONE:Australia/Darwin
BEGIN:VEVENT
UID:152@topendhash.com
DTSTART;TZID=Australia/Darwin:20210311T180000
DTEND;TZID=Australia/Darwin:20210311T233000
DTSTAMP:20210310T105621Z
URL:https://topendhash.com/events/1029-t2-next-to-nightcliff-jetty-click-o
 n-this-link-for-google-map-click-on-this-link-for-misdirections/
SUMMARY:1029- T2 - CLIFFS NEXT TO NIGHTCLIFF JETTY- CLICK ON THIS LINK FOR 
 GOOGLE MAP CLICK ON THIS LINK FOR MISDIRECTIONS
DESCRIPTION:CLIFFS NEXT TO NIGHTCLIFF JETTY\n\n\n\n
END:VEVENT
BEGIN:VTIMEZONE
TZID:Australia/Darwin
X-LIC-LOCATION:Australia/Darwin
BEGIN:STANDARD
DTSTART:20200311T180000
TZOFFSETFROM:+0930
TZOFFSETTO:+0930
TZNAME:ACST
END:STANDARD
END:VTIMEZONE
END:VCALENDAR