BEGIN:VCALENDAR
VERSION:2.0
PRODID:-//wp-events-plugin.com//7.2.3.1//EN
TZID:Australia/Darwin
X-WR-TIMEZONE:Australia/Darwin
BEGIN:VEVENT
UID:162@topendhash.com
DTSTART;TZID=Australia/Darwin:20210304T180000
DTEND;TZID=Australia/Darwin:20210304T233000
DTSTAMP:20210303T024208Z
URL:https://topendhash.com/events/1028-dregs-1-whimbrel-couirt-wulagi-clic
 k-on-this-link-for-misdirections/
SUMMARY:1028 - DREGS - 1 WHIMBREL COUIRT\, WULAGI - CLICK ON THIS LINK FOR 
 MISDIRECTIONS
DESCRIPTION:1 WHIMBREL COUIRT\, WULAGI\n\n
END:VEVENT
BEGIN:VTIMEZONE
TZID:Australia/Darwin
X-LIC-LOCATION:Australia/Darwin
BEGIN:STANDARD
DTSTART:20200304T180000
TZOFFSETFROM:+0930
TZOFFSETTO:+0930
TZNAME:ACST
END:STANDARD
END:VTIMEZONE
END:VCALENDAR