BEGIN:VCALENDAR
VERSION:2.0
PRODID:-//wp-events-plugin.com//7.2.3.1//EN
TZID:Australia/Darwin
X-WR-TIMEZONE:Australia/Darwin
BEGIN:VEVENT
UID:146@topendhash.com
DTSTART;TZID=Australia/Darwin:20210204T180000
DTEND;TZID=Australia/Darwin:20210204T233000
DTSTAMP:20210201T093847Z
URL:https://topendhash.com/events/1024/
SUMMARY:1024 - GRANTS AND WIRE - TOP CARPARK PAVILION - HOLMES JUNGLE (TOP 
 CAR PARK PAVILION) - CLICK ON THIS LINK FOR MISDIRECTIONS
DESCRIPTION:Holmes Jungle\nTop Car Park Pavilion\n\nTake the second road on
  the Right on the way to the dump.\nIts the only area open in Holmes Jungl
 e.\n\n\n\n\n\n\n
END:VEVENT
BEGIN:VTIMEZONE
TZID:Australia/Darwin
X-LIC-LOCATION:Australia/Darwin
BEGIN:STANDARD
DTSTART:20200205T180000
TZOFFSETFROM:+0930
TZOFFSETTO:+0930
TZNAME:ACST
END:STANDARD
END:VTIMEZONE
END:VCALENDAR