BEGIN:VCALENDAR
VERSION:2.0
PRODID:-//wp-events-plugin.com//7.2.3.1//EN
TZID:Australia/Darwin
X-WR-TIMEZONE:Australia/Darwin
BEGIN:VEVENT
UID:143@topendhash.com
DTSTART;TZID=Australia/Darwin:20210114T180000
DTEND;TZID=Australia/Darwin:20210114T233000
DTSTAMP:20221204T082327Z
URL:https://topendhash.com/events/1021/
SUMMARY:1021 - CBD - 26 ORIOLE STREET\, WULAGI - CLICK ON THIS LINK FOR MIS
 DIRECTIONS
DESCRIPTION:26 Oriole St\, Wulagi\n\n
END:VEVENT
BEGIN:VTIMEZONE
TZID:Australia/Darwin
X-LIC-LOCATION:Australia/Darwin
BEGIN:STANDARD
DTSTART:20200115T180000
TZOFFSETFROM:+0930
TZOFFSETTO:+0930
TZNAME:ACST
END:STANDARD
END:VTIMEZONE
END:VCALENDAR