BEGIN:VCALENDAR
VERSION:2.0
PRODID:-//wp-events-plugin.com//7.2.3.1//EN
TZID:Australia/Darwin
X-WR-TIMEZONE:Australia/Darwin
BEGIN:VEVENT
UID:141@topendhash.com
DTSTART;TZID=Australia/Darwin:20201231T180000
DTEND;TZID=Australia/Darwin:20201231T233000
DTSTAMP:20201221T045421Z
URL:https://topendhash.com/events/1019/
SUMMARY:1019 - CUM ITTEE RUN - FISHERMANS WHARF - CLICK ON THIS LINK FOR MI
 SDIRECTIONS
DESCRIPTION:Fishermans Wharf\n\n🍻 Drinks and nibbles at Fisherman's Whar
 f 🍻\n\n🏃Then you can all F'off and do your own thing for New Years E
 ve 🏃\n\n\n\n
END:VEVENT
BEGIN:VTIMEZONE
TZID:Australia/Darwin
X-LIC-LOCATION:Australia/Darwin
BEGIN:STANDARD
DTSTART:20200101T180000
TZOFFSETFROM:+0930
TZOFFSETTO:+0930
TZNAME:ACST
END:STANDARD
END:VTIMEZONE
END:VCALENDAR