BEGIN:VCALENDAR
VERSION:2.0
PRODID:-//wp-events-plugin.com//7.2.3.1//EN
TZID:Australia/Darwin
X-WR-TIMEZONE:Australia/Darwin
BEGIN:VEVENT
UID:140@topendhash.com
DTSTART;TZID=Australia/Darwin:20201224T180000
DTEND;TZID=Australia/Darwin:20201224T233000
DTSTAMP:20201024T040541Z
URL:https://topendhash.com/events/1018/
SUMMARY:1018 - SKIDDY AND MR BALLDANGLES - CLICK ON THIS LINK FOR MISDIRECT
 IONS
DESCRIPTION:31 TAMBLING TERRACE\,\nWANGURI\n\n
END:VEVENT
BEGIN:VTIMEZONE
TZID:Australia/Darwin
X-LIC-LOCATION:Australia/Darwin
BEGIN:STANDARD
DTSTART:20191225T180000
TZOFFSETFROM:+0930
TZOFFSETTO:+0930
TZNAME:ACST
END:STANDARD
END:VTIMEZONE
END:VCALENDAR