BEGIN:VCALENDAR
VERSION:2.0
PRODID:-//wp-events-plugin.com//7.2.3.1//EN
TZID:Australia/Darwin
X-WR-TIMEZONE:Australia/Darwin
BEGIN:VEVENT
UID:138@topendhash.com
DTSTART;TZID=Australia/Darwin:20201210T180000
DTEND;TZID=Australia/Darwin:20201210T233000
DTSTAMP:20201205T010751Z
URL:https://topendhash.com/events/1016/
SUMMARY:1016 - DUREX AND PLAYSCHOOL - VACANT BLOCK NEXT TO 12 SALONIKA STRE
 ET- CLICK ON THIS LINK FOR MISDIRECTIONS
DESCRIPTION:Vacant Block Next To 12 Salonika Avenue\nParap\n\n\n\n
END:VEVENT
BEGIN:VTIMEZONE
TZID:Australia/Darwin
X-LIC-LOCATION:Australia/Darwin
BEGIN:STANDARD
DTSTART:20191211T180000
TZOFFSETFROM:+0930
TZOFFSETTO:+0930
TZNAME:ACST
END:STANDARD
END:VTIMEZONE
END:VCALENDAR