BEGIN:VCALENDAR
VERSION:2.0
PRODID:-//wp-events-plugin.com//7.2.3.1//EN
TZID:Australia/Darwin
X-WR-TIMEZONE:Australia/Darwin
BEGIN:VEVENT
UID:135@topendhash.com
DTSTART;TZID=Australia/Darwin:20201203T180000
DTEND;TZID=Australia/Darwin:20201203T233000
DTSTAMP:20201107T003201Z
URL:https://topendhash.com/events/1015/
SUMMARY:1015 - KRUSTY AND WETSPOT - CLICK ON THIS LINK FOR MISDIRECTIONS
DESCRIPTION:
END:VEVENT
BEGIN:VTIMEZONE
TZID:Australia/Darwin
X-LIC-LOCATION:Australia/Darwin
BEGIN:STANDARD
DTSTART:20191204T180000
TZOFFSETFROM:+0930
TZOFFSETTO:+0930
TZNAME:ACST
END:STANDARD
END:VTIMEZONE
END:VCALENDAR