BEGIN:VCALENDAR
VERSION:2.0
PRODID:-//wp-events-plugin.com//7.2.3.1//EN
TZID:Australia/Darwin
X-WR-TIMEZONE:Australia/Darwin
BEGIN:VEVENT
UID:131@topendhash.com
DTSTART;TZID=Australia/Darwin:20201029T180000
DTEND;TZID=Australia/Darwin:20201029T233000
DTSTAMP:20201024T035343Z
URL:https://topendhash.com/events/1010/
SUMMARY:1010 - JUGS AND HAZBEAN (THIS IS A NO DOG RUN)  - 90 Allwright Stre
 et\, Wanguri - CLICK ON THIS LINK FOR MIS-DIRECTIONS
DESCRIPTION:THIS IS A NO DOG RUN - LEAVE THEM AT HOME\n\n90 Allwright Stree
 t\, Wanguri\n\n
END:VEVENT
BEGIN:VTIMEZONE
TZID:Australia/Darwin
X-LIC-LOCATION:Australia/Darwin
BEGIN:STANDARD
DTSTART:20191030T180000
TZOFFSETFROM:+0930
TZOFFSETTO:+0930
TZNAME:ACST
END:STANDARD
END:VTIMEZONE
END:VCALENDAR