BEGIN:VCALENDAR
VERSION:2.0
PRODID:-//wp-events-plugin.com//7.2.3.1//EN
TZID:Australia/Darwin
X-WR-TIMEZONE:Australia/Darwin
BEGIN:VEVENT
UID:130@topendhash.com
DTSTART;TZID=Australia/Darwin:20201022T180000
DTEND;TZID=Australia/Darwin:20201022T233000
DTSTAMP:20201020T230200Z
URL:https://topendhash.com/events/1009/
SUMMARY:1009 -  JUGS AND KARAOKE - GRAND FINAL SPECIAL EVENT - MAIN GATE AT
  TIO STADIUM\, ABALA ROAD\, MARRARA - CLICK ON THIS LINK FOR MIS-DIRECTION
 S
DESCRIPTION:GRAND FINAL SPECIAL EVENT - MAIN GATE AT TIO STADIUM\, ABALA RO
 AD\, MARRARA\n\n\n
END:VEVENT
BEGIN:VTIMEZONE
TZID:Australia/Darwin
X-LIC-LOCATION:Australia/Darwin
BEGIN:STANDARD
DTSTART:20191023T180000
TZOFFSETFROM:+0930
TZOFFSETTO:+0930
TZNAME:ACST
END:STANDARD
END:VTIMEZONE
END:VCALENDAR