BEGIN:VCALENDAR
VERSION:2.0
PRODID:-//wp-events-plugin.com//7.2.3.1//EN
TZID:Australia/Darwin
X-WR-TIMEZONE:Australia/Darwin
BEGIN:VEVENT
UID:126@topendhash.com
DTSTART;TZID=Australia/Darwin:20200924T180000
DTEND;TZID=Australia/Darwin:20200924T233000
DTSTAMP:20200905T003609Z
URL:https://topendhash.com/events/1005-lady-di-14-redshank-court-bakewell-
 click-on-this-link-for-mis-directions-please-note-this-is-strictly-a-no-do
 g-run/
SUMMARY:1005 - Lady Di - 14 Redshank Court\, Bakewell - CLICK ON THIS LINK 
 FOR MIS-DIRECTIONS  -  PLEASE NOTE THIS IS STRICTLY A NO DOG RUN
DESCRIPTION:14 Redshank Court\, Bakewell\n\nPLEASE NOTE\nTHIS IS STRICTLY A
  NO DOG RUN\n\nClick the top left hand side of the map to enlarge\n\n
END:VEVENT
BEGIN:VTIMEZONE
TZID:Australia/Darwin
X-LIC-LOCATION:Australia/Darwin
BEGIN:STANDARD
DTSTART:20190925T180000
TZOFFSETFROM:+0930
TZOFFSETTO:+0930
TZNAME:ACST
END:STANDARD
END:VTIMEZONE
END:VCALENDAR