BEGIN:VCALENDAR
VERSION:2.0
PRODID:-//wp-events-plugin.com//7.2.3.1//EN
TZID:Australia/Darwin
X-WR-TIMEZONE:Australia/Darwin
BEGIN:VEVENT
UID:120@topendhash.com
DTSTART;TZID=Australia/Darwin:20200910T180000
DTEND;TZID=Australia/Darwin:20200910T233000
DTSTAMP:20200907T101021Z
URL:https://topendhash.com/events/1003/
SUMMARY:1003 - BACKPAGE\, RUFF RED\, JUST BOB- MYILLY TERRACE\, MYILLY POIN
 T - CLICK ON THIS LINK FOR MISDIRECTIONS
DESCRIPTION:Turn Right at Cullen Bay Roundabout - See Hash Sigh on the road
  200m on Right Hand Side\n\n
END:VEVENT
BEGIN:VTIMEZONE
TZID:Australia/Darwin
X-LIC-LOCATION:Australia/Darwin
BEGIN:STANDARD
DTSTART:20190911T180000
TZOFFSETFROM:+0930
TZOFFSETTO:+0930
TZNAME:ACST
END:STANDARD
END:VTIMEZONE
END:VCALENDAR